BEGIN:VCALENDAR
VERSION:2.0
PRODID:-//Sherwood Mountain Brewhouse Ltd. - ECPv6.15.20//NONSGML v1.0//EN
CALSCALE:GREGORIAN
METHOD:PUBLISH
X-ORIGINAL-URL:https://www.sherwoodmountain.beer
X-WR-CALDESC:Events for Sherwood Mountain Brewhouse Ltd.
REFRESH-INTERVAL;VALUE=DURATION:PT1H
X-Robots-Tag:noindex
X-PUBLISHED-TTL:PT1H
BEGIN:VTIMEZONE
TZID:America/Vancouver
BEGIN:DAYLIGHT
TZOFFSETFROM:-0800
TZOFFSETTO:-0700
TZNAME:PDT
DTSTART:20240310T100000
END:DAYLIGHT
BEGIN:STANDARD
TZOFFSETFROM:-0700
TZOFFSETTO:-0800
TZNAME:PST
DTSTART:20241103T090000
END:STANDARD
BEGIN:DAYLIGHT
TZOFFSETFROM:-0800
TZOFFSETTO:-0700
TZNAME:PDT
DTSTART:20250309T100000
END:DAYLIGHT
BEGIN:STANDARD
TZOFFSETFROM:-0700
TZOFFSETTO:-0800
TZNAME:PST
DTSTART:20251102T090000
END:STANDARD
BEGIN:DAYLIGHT
TZOFFSETFROM:-0800
TZOFFSETTO:-0700
TZNAME:PDT
DTSTART:20260308T100000
END:DAYLIGHT
BEGIN:STANDARD
TZOFFSETFROM:-0700
TZOFFSETTO:-0800
TZNAME:PST
DTSTART:20261101T090000
END:STANDARD
END:VTIMEZONE
BEGIN:VEVENT
DTSTART;TZID=America/Vancouver:20250112T150000
DTEND;TZID=America/Vancouver:20250112T180000
DTSTAMP:20260425T064313
CREATED:20250107T031150Z
LAST-MODIFIED:20250107T031150Z
UID:1788-1736694000-1736704800@www.sherwoodmountain.beer
SUMMARY:Sherwood Sunday's - Open Mic
DESCRIPTION:HAPPY NEW YEAR! We are back with our first Open Mic of 2025.\nHosted by Next of Kin: The Gagnon family band!\nSeasoned performers Jon and Jaclyn join forces with the next generation.\nPerforming a mix of Folk\, Indie and Rock covers\, with a few originals thrown in – The kids are alright\n \nWant to get up on stage and show off your skills? Come by early to secure your spot on the list! We encourage all kinds of talents. Whether you’re musically inclined or comedically focused our open mic is here for it all! Please note that there are many people wanting to share their talents\, so please make sure your act is no more 3 songs or 15 minutes in length.\n-No dogs allowed during Open Mic events\n-Please refrain from bringing outside drinks
URL:https://www.sherwoodmountain.beer/event/sherwood-sundays-open-mic
CATEGORIES:Live Music,Open Mic Sunday
ATTACH;FMTTYPE=image/jpeg:https://www.sherwoodmountain.beer/wp-content/uploads/2025/01/472845563_1086955706775594_4109197670032778803_n.jpg
END:VEVENT
END:VCALENDAR