BEGIN:VCALENDAR
VERSION:2.0
PRODID:-//Sherwood Mountain Brewhouse Ltd. - ECPv6.15.20//NONSGML v1.0//EN
CALSCALE:GREGORIAN
METHOD:PUBLISH
X-ORIGINAL-URL:https://www.sherwoodmountain.beer
X-WR-CALDESC:Events for Sherwood Mountain Brewhouse Ltd.
REFRESH-INTERVAL;VALUE=DURATION:PT1H
X-Robots-Tag:noindex
X-PUBLISHED-TTL:PT1H
BEGIN:VTIMEZONE
TZID:America/Vancouver
BEGIN:DAYLIGHT
TZOFFSETFROM:-0800
TZOFFSETTO:-0700
TZNAME:PDT
DTSTART:20240310T100000
END:DAYLIGHT
BEGIN:STANDARD
TZOFFSETFROM:-0700
TZOFFSETTO:-0800
TZNAME:PST
DTSTART:20241103T090000
END:STANDARD
BEGIN:DAYLIGHT
TZOFFSETFROM:-0800
TZOFFSETTO:-0700
TZNAME:PDT
DTSTART:20250309T100000
END:DAYLIGHT
BEGIN:STANDARD
TZOFFSETFROM:-0700
TZOFFSETTO:-0800
TZNAME:PST
DTSTART:20251102T090000
END:STANDARD
BEGIN:DAYLIGHT
TZOFFSETFROM:-0800
TZOFFSETTO:-0700
TZNAME:PDT
DTSTART:20260308T100000
END:DAYLIGHT
BEGIN:STANDARD
TZOFFSETFROM:-0700
TZOFFSETTO:-0800
TZNAME:PST
DTSTART:20261101T090000
END:STANDARD
END:VTIMEZONE
BEGIN:VEVENT
DTSTART;TZID=America/Vancouver:20250126T150000
DTEND;TZID=America/Vancouver:20250126T180000
DTSTAMP:20260425T045838
CREATED:20250122T025630Z
LAST-MODIFIED:20250122T025630Z
UID:1813-1737903600-1737914400@www.sherwoodmountain.beer
SUMMARY:Sherwood Sunday's - Open Mic
DESCRIPTION:Sustain is here to rock the house and bring the energy!\n \nA band of brothers brought together to Sustain rock and roll!\nWant to get up on stage and show off your skills? Come by early to secure your spot on the list!\nWe encourage all kinds of talents.\nWhether you’re musically inclined or comedically focused our open mic is here for it all!\n \nPlease note that there are many people wanting to share their talents\, so please make sure your act is no more 3 songs or 15 minutes in length.\n \n-No dogs allowed during Open Mic events\n-Please refrain from bringing outside drinks
URL:https://www.sherwoodmountain.beer/event/sherwood-sundays-open-mic-2
CATEGORIES:Open Mic Sunday
ATTACH;FMTTYPE=image/jpeg:https://www.sherwoodmountain.beer/wp-content/uploads/2025/01/sherwood-sundays-sustain-jan-26.jpg
END:VEVENT
END:VCALENDAR