BEGIN:VCALENDAR
VERSION:2.0
PRODID:-//Sherwood Mountain Brewhouse Ltd. - ECPv6.15.20//NONSGML v1.0//EN
CALSCALE:GREGORIAN
METHOD:PUBLISH
X-WR-CALNAME:Sherwood Mountain Brewhouse Ltd.
X-ORIGINAL-URL:https://www.sherwoodmountain.beer
X-WR-CALDESC:Events for Sherwood Mountain Brewhouse Ltd.
REFRESH-INTERVAL;VALUE=DURATION:PT1H
X-Robots-Tag:noindex
X-PUBLISHED-TTL:PT1H
BEGIN:VTIMEZONE
TZID:America/Vancouver
BEGIN:DAYLIGHT
TZOFFSETFROM:-0800
TZOFFSETTO:-0700
TZNAME:PDT
DTSTART:20220313T100000
END:DAYLIGHT
BEGIN:STANDARD
TZOFFSETFROM:-0700
TZOFFSETTO:-0800
TZNAME:PST
DTSTART:20221106T090000
END:STANDARD
BEGIN:DAYLIGHT
TZOFFSETFROM:-0800
TZOFFSETTO:-0700
TZNAME:PDT
DTSTART:20230312T100000
END:DAYLIGHT
BEGIN:STANDARD
TZOFFSETFROM:-0700
TZOFFSETTO:-0800
TZNAME:PST
DTSTART:20231105T090000
END:STANDARD
BEGIN:DAYLIGHT
TZOFFSETFROM:-0800
TZOFFSETTO:-0700
TZNAME:PDT
DTSTART:20240310T100000
END:DAYLIGHT
BEGIN:STANDARD
TZOFFSETFROM:-0700
TZOFFSETTO:-0800
TZNAME:PST
DTSTART:20241103T090000
END:STANDARD
BEGIN:DAYLIGHT
TZOFFSETFROM:-0800
TZOFFSETTO:-0700
TZNAME:PDT
DTSTART:20250309T100000
END:DAYLIGHT
BEGIN:STANDARD
TZOFFSETFROM:-0700
TZOFFSETTO:-0800
TZNAME:PST
DTSTART:20251102T090000
END:STANDARD
END:VTIMEZONE
BEGIN:VEVENT
DTSTART;TZID=America/Vancouver:20240215T180000
DTEND;TZID=America/Vancouver:20240215T200000
DTSTAMP:20260420T043349
CREATED:20240105T213019Z
LAST-MODIFIED:20240208T232526Z
UID:1415-1708020000-1708027200@www.sherwoodmountain.beer
SUMMARY:Sherwood Mountain 1st Inagural Doubles Cribbage Tournament
DESCRIPTION:Spectator Sports has arrived at Sherwood! Grab your cribbage buddies to sign up for the fun asap – only 40 spots! Sign up in the Beer Shoppe. $20 per person with your crib alias. See you soon and don’t forget to BYOBoard!
URL:https://www.sherwoodmountain.beer/event/sherwood-mountain-1st-annual-doubles-cribbage-tournament-2
LOCATION:The Hall
CATEGORIES:Special Event
ATTACH;FMTTYPE=image/png:https://www.sherwoodmountain.beer/wp-content/uploads/2024/01/CRIB-Facebook-Post-1.png
END:VEVENT
BEGIN:VEVENT
DTSTART;TZID=America/Vancouver:20240111T180000
DTEND;TZID=America/Vancouver:20240111T200000
DTSTAMP:20260420T043349
CREATED:20240105T211745Z
LAST-MODIFIED:20240105T212909Z
UID:1410-1704996000-1705003200@www.sherwoodmountain.beer
SUMMARY:Sherwood Mountain 1st Annual Doubles Cribbage Tournament
DESCRIPTION:Spectator Sports has arrived at Sherwood! Grab your cribbage buddies to sign up for the fun asap – only 40 spots! Sign up in the Beer Shoppe. $20 with your crib alias. See you soon and don’t forget to BYOBoard!
URL:https://www.sherwoodmountain.beer/event/sherwood-mountain-1st-annual-doubles-cribbage-tournament
LOCATION:The Hall
CATEGORIES:Special Event
ATTACH;FMTTYPE=image/jpeg:https://www.sherwoodmountain.beer/wp-content/uploads/2024/01/Sherwood-Cribbage-Tournament.jpeg
END:VEVENT
BEGIN:VEVENT
DTSTART;TZID=America/Vancouver:20231219T130000
DTEND;TZID=America/Vancouver:20231219T200000
DTSTAMP:20260420T043349
CREATED:20231218T201927Z
LAST-MODIFIED:20231218T201927Z
UID:1376-1702990800-1703016000@www.sherwoodmountain.beer
SUMMARY:Sherwood’s 9th Anniversary
DESCRIPTION:Cheers to 9 years! Happy Anniversary to our beloved Brewhouse\nWe can’t believe it’s been 9 years since we opened. What a wild time it has been and we are so thankful to have such an amazing community supporting us. To celebrate we’re having a little “Thank You” get together on Dec. 19th. Join us for all-day drink specials and a new merch release while we raise a toast to you\, to us\, and to the craft beer we all love!
URL:https://www.sherwoodmountain.beer/event/sherwoods-9th-anniversary
CATEGORIES:Special Event
ATTACH;FMTTYPE=image/jpeg:https://www.sherwoodmountain.beer/wp-content/uploads/2023/12/Sherwood-Mountain-Taproom-Beer.jpg
END:VEVENT
END:VCALENDAR