BEGIN:VCALENDAR
VERSION:2.0
PRODID:-//Sherwood Mountain Brewhouse Ltd. - ECPv6.15.20//NONSGML v1.0//EN
CALSCALE:GREGORIAN
METHOD:PUBLISH
X-WR-CALNAME:Sherwood Mountain Brewhouse Ltd.
X-ORIGINAL-URL:https://www.sherwoodmountain.beer
X-WR-CALDESC:Events for Sherwood Mountain Brewhouse Ltd.
REFRESH-INTERVAL;VALUE=DURATION:PT1H
X-Robots-Tag:noindex
X-PUBLISHED-TTL:PT1H
BEGIN:VTIMEZONE
TZID:America/Vancouver
BEGIN:DAYLIGHT
TZOFFSETFROM:-0800
TZOFFSETTO:-0700
TZNAME:PDT
DTSTART:20230312T100000
END:DAYLIGHT
BEGIN:STANDARD
TZOFFSETFROM:-0700
TZOFFSETTO:-0800
TZNAME:PST
DTSTART:20231105T090000
END:STANDARD
BEGIN:DAYLIGHT
TZOFFSETFROM:-0800
TZOFFSETTO:-0700
TZNAME:PDT
DTSTART:20240310T100000
END:DAYLIGHT
BEGIN:STANDARD
TZOFFSETFROM:-0700
TZOFFSETTO:-0800
TZNAME:PST
DTSTART:20241103T090000
END:STANDARD
BEGIN:DAYLIGHT
TZOFFSETFROM:-0800
TZOFFSETTO:-0700
TZNAME:PDT
DTSTART:20250309T100000
END:DAYLIGHT
BEGIN:STANDARD
TZOFFSETFROM:-0700
TZOFFSETTO:-0800
TZNAME:PST
DTSTART:20251102T090000
END:STANDARD
END:VTIMEZONE
BEGIN:VEVENT
DTSTART;TZID=America/Vancouver:20241124T150000
DTEND;TZID=America/Vancouver:20241124T180000
DTSTAMP:20260424T063647
CREATED:20241108T012847Z
LAST-MODIFIED:20241108T012847Z
UID:1724-1732460400-1732471200@www.sherwoodmountain.beer
SUMMARY:Sundays in the Hall - Open Mic
DESCRIPTION:
URL:https://www.sherwoodmountain.beer/event/sundays-in-the-hall-open-mic-3
ATTACH;FMTTYPE=image/png:https://www.sherwoodmountain.beer/wp-content/uploads/2024/11/Untitled-design-1.png
END:VEVENT
BEGIN:VEVENT
DTSTART;TZID=America/Vancouver:20241119T183000
DTEND;TZID=America/Vancouver:20241119T233000
DTSTAMP:20260424T063647
CREATED:20241106T175748Z
LAST-MODIFIED:20241106T175748Z
UID:1705-1732041000-1732059000@www.sherwoodmountain.beer
SUMMARY:Tuesday Hockey Nights
DESCRIPTION:
URL:https://www.sherwoodmountain.beer/event/tuesday-hockey-nights-2
ATTACH;FMTTYPE=image/jpeg:https://www.sherwoodmountain.beer/wp-content/uploads/2024/11/3.jpg
END:VEVENT
BEGIN:VEVENT
DTSTART;TZID=America/Vancouver:20241117T150000
DTEND;TZID=America/Vancouver:20241117T200000
DTSTAMP:20260424T063647
CREATED:20241029T001945Z
LAST-MODIFIED:20241106T184850Z
UID:1667-1731855600-1731873600@www.sherwoodmountain.beer
SUMMARY:Sundays in the Hall – Trivia & Karaoke
DESCRIPTION:
URL:https://www.sherwoodmountain.beer/event/sundays-in-the-hall-trivia-3
CATEGORIES:Trivia Sunday
ATTACH;FMTTYPE=image/jpeg:https://www.sherwoodmountain.beer/wp-content/uploads/2024/10/Trivia-Karaoke-Posters-1920-x-1080-px-1.jpg
END:VEVENT
BEGIN:VEVENT
DTSTART;TZID=America/Vancouver:20241115T170000
DTEND;TZID=America/Vancouver:20241115T210000
DTSTAMP:20260424T063647
CREATED:20241106T180853Z
LAST-MODIFIED:20241115T060926Z
UID:1711-1731690000-1731704400@www.sherwoodmountain.beer
SUMMARY:*CHANGE IN TIMES* Mike Sixonate & Michael O’Grady
DESCRIPTION:Starting from 5pm Patrick “Pianoman” will be playing in the Beer Shoppe!  \nMike & Michael will hit stage\, Complimentary! (If you have purchased a ticket\, you will be Refunded)
URL:https://www.sherwoodmountain.beer/event/mike-sixonate-michael-ogrady
ATTACH;FMTTYPE=image/jpeg:https://www.sherwoodmountain.beer/wp-content/uploads/2024/11/Mike-Sixonate-1920-x-1080-px.jpg
END:VEVENT
BEGIN:VEVENT
DTSTART;TZID=America/Vancouver:20241114T140000
DTEND;TZID=America/Vancouver:20241114T200000
DTSTAMP:20260424T063647
CREATED:20241022T033320Z
LAST-MODIFIED:20241022T033320Z
UID:1648-1731592800-1731614400@www.sherwoodmountain.beer
SUMMARY:Pickle Fest - in the Taproom
DESCRIPTION:
URL:https://www.sherwoodmountain.beer/event/pickle-fest-in-the-taproom
ATTACH;FMTTYPE=image/jpeg:https://www.sherwoodmountain.beer/wp-content/uploads/2024/10/brie-1920-x-1080-px-1.jpg
END:VEVENT
BEGIN:VEVENT
DTSTART;TZID=America/Vancouver:20241112T183000
DTEND;TZID=America/Vancouver:20241112T233000
DTSTAMP:20260424T063647
CREATED:20241106T175531Z
LAST-MODIFIED:20241106T175531Z
UID:1701-1731436200-1731454200@www.sherwoodmountain.beer
SUMMARY:Tuesday Hockey Nights
DESCRIPTION:
URL:https://www.sherwoodmountain.beer/event/tuesday-hockey-nights
ATTACH;FMTTYPE=image/jpeg:https://www.sherwoodmountain.beer/wp-content/uploads/2024/11/2.jpg
END:VEVENT
BEGIN:VEVENT
DTSTART;TZID=America/Vancouver:20241110T150000
DTEND;TZID=America/Vancouver:20241110T180000
DTSTAMP:20260424T063647
CREATED:20241029T001740Z
LAST-MODIFIED:20241029T185752Z
UID:1665-1731250800-1731261600@www.sherwoodmountain.beer
SUMMARY:Sundays in the Hall – Open Mic
DESCRIPTION:
URL:https://www.sherwoodmountain.beer/event/sundays-in-the-hall-open-mic-2
ATTACH;FMTTYPE=image/jpeg:https://www.sherwoodmountain.beer/wp-content/uploads/2024/10/thumbnail_SHERWOOD-NEW-OPEN-MIC-DESIGN-GETTY.jpg
END:VEVENT
BEGIN:VEVENT
DTSTART;TZID=America/Vancouver:20241103T180000
DTEND;TZID=America/Vancouver:20241103T200000
DTSTAMP:20260424T063647
CREATED:20241021T185855Z
LAST-MODIFIED:20241029T001631Z
UID:1643-1730656800-1730664000@www.sherwoodmountain.beer
SUMMARY:Sundays in the Hall – Karaoke
DESCRIPTION:
URL:https://www.sherwoodmountain.beer/event/sundays-in-the-hall-karaoke-2
ATTACH;FMTTYPE=image/jpeg:https://www.sherwoodmountain.beer/wp-content/uploads/2024/10/Blue-Playful-Creative-Illustrated-Music-Karaoke-Contest-Presentation-1.jpg
END:VEVENT
BEGIN:VEVENT
DTSTART;TZID=America/Vancouver:20241103T150000
DTEND;TZID=America/Vancouver:20241103T170000
DTSTAMP:20260424T063647
CREATED:20241021T185952Z
LAST-MODIFIED:20241101T175545Z
UID:1646-1730646000-1730653200@www.sherwoodmountain.beer
SUMMARY:Sundays in the Hall – Trivia
DESCRIPTION:Trivia Sundays in the Hall!\nJoin us for General Knowledge with our great host Andy. Bring your friends\, family & put your brains to the test! Every other Sunday in the Sherwood Mountain Brewhouse Hall.
URL:https://www.sherwoodmountain.beer/event/sundays-in-the-hall-trivia-2
LOCATION:The Hall
CATEGORIES:Trivia Sunday
ATTACH;FMTTYPE=image/png:https://www.sherwoodmountain.beer/wp-content/uploads/2024/10/1.png
END:VEVENT
BEGIN:VEVENT
DTSTART;TZID=America/Vancouver:20241027T150000
DTEND;TZID=America/Vancouver:20241027T180000
DTSTAMP:20260424T063647
CREATED:20241017T170229Z
LAST-MODIFIED:20241017T170344Z
UID:1623-1730041200-1730052000@www.sherwoodmountain.beer
SUMMARY:Sundays in the Hall - Open Mic
DESCRIPTION:
URL:https://www.sherwoodmountain.beer/event/sundays-in-the-hall-open-mic
CATEGORIES:Open Mic Sunday
ATTACH;FMTTYPE=image/jpeg:https://www.sherwoodmountain.beer/wp-content/uploads/2024/10/thumbnail_sherwood-sundays-karl-wyssen-oct-27.jpg
END:VEVENT
BEGIN:VEVENT
DTSTART;TZID=America/Vancouver:20241020T170000
DTEND;TZID=America/Vancouver:20241020T190000
DTSTAMP:20260424T063647
CREATED:20241017T223827Z
LAST-MODIFIED:20241017T223827Z
UID:1631-1729443600-1729450800@www.sherwoodmountain.beer
SUMMARY:Sundays in the Hall - Karaoke
DESCRIPTION:
URL:https://www.sherwoodmountain.beer/event/sundays-in-the-hall-karaoke
ATTACH;FMTTYPE=image/jpeg:https://www.sherwoodmountain.beer/wp-content/uploads/2024/10/Blue-Playful-Creative-Illustrated-Music-Karaoke-Contest-Presentation.jpg
END:VEVENT
BEGIN:VEVENT
DTSTART;TZID=America/Vancouver:20241020T150000
DTEND;TZID=America/Vancouver:20241020T180000
DTSTAMP:20260424T063647
CREATED:20241017T221811Z
LAST-MODIFIED:20241017T222816Z
UID:1626-1729436400-1729447200@www.sherwoodmountain.beer
SUMMARY:Sundays in the Hall - Trivia
DESCRIPTION:
URL:https://www.sherwoodmountain.beer/event/sundays-in-the-hall-trivia
ATTACH;FMTTYPE=image/jpeg:https://www.sherwoodmountain.beer/wp-content/uploads/2024/10/Trivia.jpg
END:VEVENT
BEGIN:VEVENT
DTSTART;TZID=America/Vancouver:20240623T180000
DTEND;TZID=America/Vancouver:20240623T200000
DTSTAMP:20260424T063647
CREATED:20240620T232608Z
LAST-MODIFIED:20240620T232608Z
UID:1577-1719165600-1719172800@www.sherwoodmountain.beer
SUMMARY:Sunday Night Karaoke with Rhonda & Aaron!
DESCRIPTION:Looking for some evening fun? Well look no further than the Karaoke After Party in the Hall! Join us for our Sunday Night Karaoke from 6-8PM. This will be our last Karaoke event before our July Break. \n \nBig thank you to our hosts Aaron & Rhonda for helping make this event happen!
URL:https://www.sherwoodmountain.beer/event/sunday-night-karaoke-with-rhonda-aaron
LOCATION:The Hall
CATEGORIES:Special Event
ATTACH;FMTTYPE=image/png:https://www.sherwoodmountain.beer/wp-content/uploads/2024/06/Karaoke-Evening-FB-Post.png
END:VEVENT
BEGIN:VEVENT
DTSTART;TZID=America/Vancouver:20240623T150000
DTEND;TZID=America/Vancouver:20240623T180000
DTSTAMP:20260424T063647
CREATED:20240620T232907Z
LAST-MODIFIED:20240621T175504Z
UID:1580-1719154800-1719165600@www.sherwoodmountain.beer
SUMMARY:Sunday Afternoon Trivia with Andy
DESCRIPTION:Join us for a fun afternoon of Trivia in the Hall\, with your guest host Adam! \nThere’s a $2 cover. Play alone or bring your smarty pants friends to compete for prizes and bragging rights. This will be the last Trivia Sunday before we start our July Break. 
URL:https://www.sherwoodmountain.beer/event/sunday-afternoon-trivia-with-adam
LOCATION:The Hall
ATTACH;FMTTYPE=image/png:https://www.sherwoodmountain.beer/wp-content/uploads/2024/06/TRIVIA-SUNDAY-in-the-HALL.png
END:VEVENT
BEGIN:VEVENT
DTSTART;TZID=America/Vancouver:20240616T150000
DTEND;TZID=America/Vancouver:20240616T180000
DTSTAMP:20260424T063647
CREATED:20240604T223219Z
LAST-MODIFIED:20240604T223219Z
UID:1568-1718550000-1718560800@www.sherwoodmountain.beer
SUMMARY:Sherwood Sunday's Open Mic with Ezra Beaton!
DESCRIPTION:This week’s Open Mic is brought to you by our Musical Host Ezra Beaton.\n \nWant to get up on stage and show off your skills? Come by early to secure your spot on the list! We encourage all kinds of talents. Whether you’re musically inclined or comedically focused our open mic is here for it all! Please note that there is many people wanting to share their talents\, so please make sure your act is no more 3 songs or 15 minutes in length.\n \n-No dogs allowed during Open Mic events\n-Please refrain from bringing outside drinks
URL:https://www.sherwoodmountain.beer/event/sherwood-sundays-open-mic-with-ezra-beaton
LOCATION:The Hall
CATEGORIES:Open Mic Sunday
ATTACH;FMTTYPE=image/jpeg:https://www.sherwoodmountain.beer/wp-content/uploads/2024/06/open-mic-june-16.jpg
END:VEVENT
BEGIN:VEVENT
DTSTART;TZID=America/Vancouver:20240608T140000
DTEND;TZID=America/Vancouver:20240608T220000
DTSTAMP:20260424T063647
CREATED:20240530T020751Z
LAST-MODIFIED:20240530T020751Z
UID:1562-1717855200-1717884000@www.sherwoodmountain.beer
SUMMARY:Sherwood Shaker! Skeena Sunshine Saison Rerelease Party!
DESCRIPTION:Join us all day to celebrate the return of patio season\, and the Skeena Sunshine! \nlive music all day! $5 pints of Sunshine! Hot food from the Sherwood Mountain BBQ! \nNO COVER OR TICKETS NEEDED! \n 
URL:https://www.sherwoodmountain.beer/event/sherwood-shaker-skeena-sunshine-saison-rerelease-party
LOCATION:The Hall
CATEGORIES:Live Music,Special Event
ATTACH;FMTTYPE=image/jpeg:https://www.sherwoodmountain.beer/wp-content/uploads/2024/05/shaker.jpg
END:VEVENT
BEGIN:VEVENT
DTSTART;TZID=America/Vancouver:20240607T193000
DTEND;TZID=America/Vancouver:20240607T223000
DTSTAMP:20260424T063647
CREATED:20240530T015355Z
LAST-MODIFIED:20240606T211536Z
UID:1556-1717788600-1717799400@www.sherwoodmountain.beer
SUMMARY:*CANCELLED* Sherwood Stand Up Comedy!
DESCRIPTION:Unfortuately this show has ben cancelled. If you purchased a ticket\, please bring it back to the Beer Shoppe for a full refund.  \n  \nJoin us for a laugh as Mike McGuire and Virgina O’Dine show case their comic stylings! \nShow starts at 8pm\, with doors open at 730! \n$20 tickets! 19+
URL:https://www.sherwoodmountain.beer/event/sherwood-stand-up-comedy
LOCATION:The Hall
CATEGORIES:Special Event
ATTACH;FMTTYPE=image/jpeg:https://www.sherwoodmountain.beer/wp-content/uploads/2024/05/comedy-show-june-7.jpg
END:VEVENT
BEGIN:VEVENT
DTSTART;TZID=America/Vancouver:20240606T140000
DTEND;TZID=America/Vancouver:20240606T200000
DTSTAMP:20260424T063647
CREATED:20240518T024748Z
LAST-MODIFIED:20240604T223632Z
UID:1547-1717682400-1717704000@www.sherwoodmountain.beer
SUMMARY:Bean & Brew Craft Courses! Beer Blending!
DESCRIPTION:Join us in welcoming Bug Wood Coffee!\nThey will be leading a set of Coffee courses here in the Beer Shoppe!\nThis First course will be a Cold Brew and Beer Blending class on June 6th! Participants will help us develop a cold brew blended pilot beer!\n\nThere are 3 separate Classe times; First starting @ 2PM\, Second @ 4PM\, and Third @ 6PM! 12 seats per class!\nClasses are $45 per seat\, each participant will receive a Bag of Bugwood Beans\, and a Flight of Sherwood’s finest!\nSign up in the Beer Shoppe today!
URL:https://www.sherwoodmountain.beer/event/bean-brew-craft-courses
LOCATION:Beer Shoppe
CATEGORIES:Special Event
ATTACH;FMTTYPE=image/png:https://www.sherwoodmountain.beer/wp-content/uploads/2024/05/Brown-Yellow-Retro-Coffee-Promotion-Flyer-2.png
END:VEVENT
BEGIN:VEVENT
DTSTART;TZID=America/Vancouver:20240526T183000
DTEND;TZID=America/Vancouver:20240526T220000
DTSTAMP:20260424T063647
CREATED:20240517T225326Z
LAST-MODIFIED:20240517T232250Z
UID:1541-1716748200-1716760800@www.sherwoodmountain.beer
SUMMARY:Sunday Night Karaoke!
DESCRIPTION:Looking for some evening fun? Well look no further than the Karaoke After Party in the Hall!\nJoin us for Trivia! From 3-6PM!\nStay late or come after and join us for our Sunday Night Karaoke! 630-10 Pm!\nBig thank you to our host Brittney for helping make these events happen!
URL:https://www.sherwoodmountain.beer/event/sunday-night-karaoke-2
LOCATION:The Hall
ATTACH;FMTTYPE=image/png:https://www.sherwoodmountain.beer/wp-content/uploads/2024/05/karaoke-post-1.png
END:VEVENT
BEGIN:VEVENT
DTSTART;TZID=America/Vancouver:20240526T150000
DTEND;TZID=America/Vancouver:20240526T180000
DTSTAMP:20260424T063647
CREATED:20240517T224710Z
LAST-MODIFIED:20240517T232211Z
UID:1537-1716735600-1716746400@www.sherwoodmountain.beer
SUMMARY:Tolkien Trivia
DESCRIPTION:Join us for a trip down fantasy lane\, as this week we explore all things Tolkien\nCompete for prizes\, have some fun\, and try not to peep! This Sunday bring your best mates and $2 for cover. Will you be the team to take the bragging rights?\nWinners of Trivia will get bragging rights for two weeks as Champions of Sherwood Trivia.\nDo you like Karaoke? Stay late and find out! 
URL:https://www.sherwoodmountain.beer/event/tolkien-trivia
LOCATION:The Hall
ATTACH;FMTTYPE=image/png:https://www.sherwoodmountain.beer/wp-content/uploads/2024/05/Tolkien-2.png
END:VEVENT
BEGIN:VEVENT
DTSTART;VALUE=DATE:20240520
DTEND;VALUE=DATE:20240521
DTSTAMP:20260424T063647
CREATED:20240517T232107Z
LAST-MODIFIED:20240517T232107Z
UID:1544-1716163200-1716249599@www.sherwoodmountain.beer
SUMMARY:Closed for Victoria Day!
DESCRIPTION:We will be closed on both sides for Victoria day! \nwe hope to see you soon\, have a great weekend!
URL:https://www.sherwoodmountain.beer/event/closed-for-victoria-day
ATTACH;FMTTYPE=image/png:https://www.sherwoodmountain.beer/wp-content/uploads/2024/05/Beige-Boho-Sorry-We-Are-Closed-Facebook-Post.png
END:VEVENT
BEGIN:VEVENT
DTSTART;TZID=America/Vancouver:20240519T150000
DTEND;TZID=America/Vancouver:20240519T180000
DTSTAMP:20260424T063647
CREATED:20240513T220318Z
LAST-MODIFIED:20240513T220318Z
UID:1533-1716130800-1716141600@www.sherwoodmountain.beer
SUMMARY:Sherwood Sunday's Open Mic with Colby Cameron!
DESCRIPTION:This week’s Open Mic is brought to you by our Musical Host Colby Cameron!\n \nWant to get up on stage and show off your skills? Come by early to secure your spot on the list! We encourage all kinds of talents. Whether you’re musically inclined or comedically focused our open mic is here for it all! Please note that there is many people wanting to share their talents\, so please make sure your act is no more 3 songs or 15 minutes in length.\n \n-No dogs allowed during Open Mic events\n-Please refrain from bringing outside drinks
URL:https://www.sherwoodmountain.beer/event/sherwood-sundays-open-mic-with-colby-cameron
LOCATION:The Hall
ATTACH;FMTTYPE=image/jpeg:https://www.sherwoodmountain.beer/wp-content/uploads/2024/05/sherwood-sundays-colby-may-19th.jpg
END:VEVENT
BEGIN:VEVENT
DTSTART;TZID=America/Vancouver:20240512T183000
DTEND;TZID=America/Vancouver:20240512T220000
DTSTAMP:20260424T063647
CREATED:20240508T000216Z
LAST-MODIFIED:20240508T000216Z
UID:1529-1715538600-1715551200@www.sherwoodmountain.beer
SUMMARY:Sherwood Sundays Karaoke Night!
DESCRIPTION:Looking for some evening fun? Well look no further than the Karaoke After Party in the Hall!\nJoin us for Trivia! From 3-6PM!\nStay late or come after and join us for another fun Sunday Night Karaoke! 630-10 Pm!\nBig thank you to our host Brittany for helping make these events happen!
URL:https://www.sherwoodmountain.beer/event/sherwood-sundays-karaoke-night
CATEGORIES:Special Event
ATTACH;FMTTYPE=image/png:https://www.sherwoodmountain.beer/wp-content/uploads/2024/05/Open-Mic-Karaoke-Night-Flyer.png
END:VEVENT
BEGIN:VEVENT
DTSTART;TZID=America/Vancouver:20240512T150000
DTEND;TZID=America/Vancouver:20240512T180000
DTSTAMP:20260424T063647
CREATED:20240507T235005Z
LAST-MODIFIED:20240507T235005Z
UID:1526-1715526000-1715536800@www.sherwoodmountain.beer
SUMMARY:Sunday After Noon Trivia with Andy!
DESCRIPTION:Join us for a fun afternoon of trivia in the Hall! With your favorite host- Andy! \n$2 cover compete for prizes and bragging rights for being this weeks champ!
URL:https://www.sherwoodmountain.beer/event/sunday-after-noon-trivia-with-andy
LOCATION:The Hall
CATEGORIES:Trivia Sunday
ATTACH;FMTTYPE=image/png:https://www.sherwoodmountain.beer/wp-content/uploads/2024/05/mothers-day-trivia.png
END:VEVENT
BEGIN:VEVENT
DTSTART;TZID=America/Vancouver:20240505T150000
DTEND;TZID=America/Vancouver:20240505T200000
DTSTAMP:20260424T063647
CREATED:20240423T222837Z
LAST-MODIFIED:20240423T222948Z
UID:1520-1714921200-1714939200@www.sherwoodmountain.beer
SUMMARY:Sherona Returns! Cinco De Mayo Re-release Party!
DESCRIPTION:Join us as we celebrate Mexico’s victory over the much larger French forces during the battle of Puebla in 1862\, with the return of our Mexican style Lager! The Sherona!\nFestive Music in the hall From 3pm-8pm\, as well as some in The Taproom starting at 5pm!\n~Complimentary chips and salsa!\n~$5 Sherona pints all day!
URL:https://www.sherwoodmountain.beer/event/sherona-returns-cinco-de-mayo-re-release-party
LOCATION:The Hall
CATEGORIES:Special Event
ATTACH;FMTTYPE=image/png:https://www.sherwoodmountain.beer/wp-content/uploads/2024/04/Sherwood-Cinco-De-Mayo-1.png
END:VEVENT
BEGIN:VEVENT
DTSTART;TZID=America/Vancouver:20240428T183000
DTEND;TZID=America/Vancouver:20240428T220000
DTSTAMP:20260424T063647
CREATED:20240417T015201Z
LAST-MODIFIED:20240417T015201Z
UID:1504-1714329000-1714341600@www.sherwoodmountain.beer
SUMMARY:Sunday Night Karaoke!
DESCRIPTION:Looking for some evening fun? Well look no further than the Karaoke After Party in the Hall!\nJoin us for our Head to Head Trivia! From 3-6PM!\nStay late or come after and join us for our second Sunday Night Karaoke! 630-10 Pm!\nBig thank you to Sight & Sound and our host Brittney for helping make these events happen!
URL:https://www.sherwoodmountain.beer/event/sunday-night-karaoke
CATEGORIES:Special Event
ATTACH;FMTTYPE=image/png:https://www.sherwoodmountain.beer/wp-content/uploads/2024/04/Open-Mic-After-Party-1.png
END:VEVENT
BEGIN:VEVENT
DTSTART;TZID=America/Vancouver:20240428T150000
DTEND;TZID=America/Vancouver:20240428T180000
DTSTAMP:20260424T063647
CREATED:20240416T235131Z
LAST-MODIFIED:20240416T235131Z
UID:1464-1714316400-1714327200@www.sherwoodmountain.beer
SUMMARY:Head To Head Sunday Trivia!
DESCRIPTION:Prepare for war! Trivia this week is a head to head battle of the brains! Tournament style double knock out!\nCompete for prizes\, have some fun\, and try not to peep! This Sunday bring your best mates and $2 for cover. Will you be the team to take the bragging rights?\nWinners of Trivia will get bragging rights for two weeks as Champions of Sherwood Trivia.\nDo you like Karaoke? Stay late and find out!
URL:https://www.sherwoodmountain.beer/event/head-to-head-sunday-trivia
LOCATION:The Hall
CATEGORIES:Trivia Sunday
ATTACH;FMTTYPE=image/png:https://www.sherwoodmountain.beer/wp-content/uploads/2024/04/head-to-head-trivia-poster-Facebook-Post-1.png
END:VEVENT
BEGIN:VEVENT
DTSTART;TZID=America/Vancouver:20240425T180000
DTEND;TZID=America/Vancouver:20240425T200000
DTSTAMP:20260424T063647
CREATED:20240417T014121Z
LAST-MODIFIED:20240417T014121Z
UID:1500-1714068000-1714075200@www.sherwoodmountain.beer
SUMMARY:Yoga On Tap!
DESCRIPTION:Get ready for another Yoga on Tap event with Jessica Hogg at Sherwood Mountain Brewhouse. This one-hour yoga class is designed for all levels\, focusing on energizing movements\, playful sequences\, and uplifting vibes.\nAfter the yoga session\, enjoy a beverage during our social hour.\nIt’s the perfect opportunity to connect with like-minded individuals\, unwind\, and share some laughs in a relaxed atmosphere.\nThursday\, April 25\, 6- 8 pm\n$25 per ticket!\nDon’t miss out and secure your spot now for Yoga on Tap. Tickets are for sale at the Beer Shoppe.\n \nInstructor: Jessica Hogg\, 200RYT\nJessica’s approach to yoga is balanced\, mindful\, and light-hearted. She loves supporting students in applying yoga principles to everyday life\, offering an experience that goes beyond the mat.\n-Your $25 sign up includes the 60-minute yoga class and your choice of one pint of beer\, glass of tap Cider\, or glass of Kombucha.\n-Tickets are only available at the Beer Shoppe.\n-Please bring a yoga mat and other yoga props you may need (block\, strap\, blanket\, etc).\n-19+ only.\n-No pets allowed.
URL:https://www.sherwoodmountain.beer/event/yoga-on-tap-2
LOCATION:The Hall
CATEGORIES:Special Event
ATTACH;FMTTYPE=image/jpeg:https://www.sherwoodmountain.beer/wp-content/uploads/2024/04/Yoga-on-Tap-_FB.jpeg
END:VEVENT
BEGIN:VEVENT
DTSTART;TZID=America/Vancouver:20240421T150000
DTEND;TZID=America/Vancouver:20240421T180000
DTSTAMP:20260424T063647
CREATED:20240417T021239Z
LAST-MODIFIED:20240513T220112Z
UID:1507-1713711600-1713722400@www.sherwoodmountain.beer
SUMMARY:Sherwood Sunday's Open Mic with Jordan Beblow!
DESCRIPTION:The NW Songwriters Syndicate with Jordan Beblow are up next for hosting Open mic in the Hall @ Sherwood Mountain Brewhouse on Sunday April 21st!!! Come play! Come listen! Come early! Stay late! …its usually a pretty good time!
URL:https://www.sherwoodmountain.beer/event/sherwood-sundays-open-mic-with-jordan-beblow
LOCATION:The Hall
CATEGORIES:Live Music
ATTACH;FMTTYPE=image/jpeg:https://www.sherwoodmountain.beer/wp-content/uploads/2024/04/sherwood-sundays-april21-jordan-beblow.jpg
END:VEVENT
BEGIN:VEVENT
DTSTART;TZID=America/Vancouver:20240419T190000
DTEND;TZID=America/Vancouver:20240419T230000
DTSTAMP:20260424T063647
CREATED:20240417T013159Z
LAST-MODIFIED:20240417T013159Z
UID:1468-1713553200-1713567600@www.sherwoodmountain.beer
SUMMARY:Steel Head Society Northern Branch Fundraiser!
DESCRIPTION:Tickets available for purchase at Sherwood Mountain Brewery Beer Shoppe\n 50/50 Tickets\nAMAZING silent auction items\nLive music featuring Twenty Pound Test & Jay Gavin\n Awesome door prizes 
URL:https://www.sherwoodmountain.beer/event/steel-head-society-northern-branch-fundraiser
LOCATION:The Hall
CATEGORIES:Live Music,Special Event
ATTACH;FMTTYPE=image/jpeg:https://www.sherwoodmountain.beer/wp-content/uploads/2024/04/steel-head-fundraiser.jpg
END:VEVENT
END:VCALENDAR